{"text_format":"1","workbook":"xlsx","n_sheets":35,"sheets":["Abrechnung","Verzeichnis","SPG","K1","K2","K3","K4","K5","K6","K7","K8","K9","K10","K11","K12","K13","K14","K15","K16","K17","K18","K19","K20","K21","K22","K23","K24","K25","K26","K27","K28","K29","K30","Dolmetscher","Tarife"],"not_rendered":{"charts":0,"images":0,"macros":1,"external_links":0,"defined_names":0,"comments":0,"pivot_tables":0},"unopened":[],"bounds":{"document_bytes":16777216,"sheet_cells":100000,"rows_first":2000,"rows_last":500,"rows_between":2000,"halvings":0,"cell_chars":16384,"cell_head_chars":4096},"cells_cut":0,"cells_raw":0,"read":"whole","date_system":"1900"}

{"sheet":"Abrechnung","index":0,"n_rows":1,"n_cols":8,"rows_kept":1,"cut":false,"hidden":false,"merged":[]}
["ID","Datum","Leistung","Tarif","Minuten","Betrag",null,"Abrechner"]

{"sheet":"Verzeichnis","index":1,"n_rows":31,"n_cols":4,"rows_kept":31,"cut":false,"hidden":false,"merged":[]}
["K1",{"$f":"IF('K1'!$B$1<>\"\",'K1'!$B$1,\"\")","v":""},{"$f":"IF('K1'!$A$1<>\"\",'K1'!$A$1,\"\")","v":""},{"$f":"IF('K1'!$B$1<>\"\",'K1'!$E$35+'K1'!$F$35,\"\")","v":""}]
["K2",{"$f":"IF('K2'!$B$1<>\"\",'K2'!$B$1,\"\")","v":""},{"$f":"IF('K2'!$A$1<>\"\",'K2'!$A$1,\"\")","v":""},{"$f":"IF('K2'!$B$1<>\"\",'K2'!$E$35+'K2'!$F$35,\"\")","v":""}]
["K3",{"$f":"IF('K3'!$B$1<>\"\",'K3'!$B$1,\"\")","v":""},{"$f":"IF('K3'!$A$1<>\"\",'K3'!$A$1,\"\")","v":""},{"$f":"IF('K3'!$B$1<>\"\",'K3'!$E$35+'K3'!$F$35,\"\")","v":""}]
["K4",{"$f":"IF('K4'!$B$1<>\"\",'K4'!$B$1,\"\")","v":""},{"$f":"IF('K4'!$A$1<>\"\",'K4'!$A$1,\"\")","v":""},{"$f":"IF('K4'!$B$1<>\"\",'K4'!$E$35+'K4'!$F$35,\"\")","v":""}]
["K5",{"$f":"IF('K5'!$B$1<>\"\",'K5'!$B$1,\"\")","v":""},{"$f":"IF('K5'!$A$1<>\"\",'K5'!$A$1,\"\")","v":""},{"$f":"IF('K5'!$B$1<>\"\",'K5'!$E$35+'K5'!$F$35,\"\")","v":""}]
["K6",{"$f":"IF('K6'!$B$1<>\"\",'K6'!$B$1,\"\")","v":""},{"$f":"IF('K6'!$A$1<>\"\",'K6'!$A$1,\"\")","v":""},{"$f":"IF('K6'!$B$1<>\"\",'K6'!$E$35+'K6'!$F$35,\"\")","v":""}]
["K7",{"$f":"IF('K7'!$B$1<>\"\",'K7'!$B$1,\"\")","v":""},{"$f":"IF('K7'!$A$1<>\"\",'K7'!$A$1,\"\")","v":""},{"$f":"IF('K7'!$B$1<>\"\",'K7'!$E$35+'K7'!$F$35,\"\")","v":""}]
["K8",{"$f":"IF('K8'!$B$1<>\"\",'K8'!$B$1,\"\")","v":""},{"$f":"IF('K8'!$A$1<>\"\",'K8'!$A$1,\"\")","v":""},{"$f":"IF('K8'!$B$1<>\"\",'K8'!$E$35+'K8'!$F$35,\"\")","v":""}]
["K9",{"$f":"IF('K9'!$B$1<>\"\",'K9'!$B$1,\"\")","v":""},{"$f":"IF('K9'!$A$1<>\"\",'K9'!$A$1,\"\")","v":""},{"$f":"IF('K9'!$B$1<>\"\",'K9'!$E$35+'K9'!$F$35,\"\")","v":""}]
["K10",{"$f":"IF('K10'!$B$1<>\"\",'K10'!$B$1,\"\")","v":""},{"$f":"IF('K10'!$A$1<>\"\",'K10'!$A$1,\"\")","v":""},{"$f":"IF('K10'!$B$1<>\"\",'K10'!$E$35+'K10'!$F$35,\"\")","v":""}]
["K11",{"$f":"IF('K11'!$B$1<>\"\",'K11'!$B$1,\"\")","v":""},{"$f":"IF('K11'!$A$1<>\"\",'K11'!$A$1,\"\")","v":""},{"$f":"IF('K11'!$B$1<>\"\",'K11'!$E$35+'K11'!$F$35,\"\")","v":""}]
["K12",{"$f":"IF('K12'!$B$1<>\"\",'K12'!$B$1,\"\")","v":""},{"$f":"IF('K12'!$A$1<>\"\",'K12'!$A$1,\"\")","v":""},{"$f":"IF('K12'!$B$1<>\"\",'K12'!$E$35+'K12'!$F$35,\"\")","v":""}]
["K13",{"$f":"IF('K13'!$B$1<>\"\",'K13'!$B$1,\"\")","v":""},{"$f":"IF('K13'!$A$1<>\"\",'K13'!$A$1,\"\")","v":""},{"$f":"IF('K13'!$B$1<>\"\",'K13'!$E$35+'K13'!$F$35,\"\")","v":""}]
["K14",{"$f":"IF('K14'!$B$1<>\"\",'K14'!$B$1,\"\")","v":""},{"$f":"IF('K14'!$A$1<>\"\",'K14'!$A$1,\"\")","v":""},{"$f":"IF('K14'!$B$1<>\"\",'K14'!$E$35+'K14'!$F$35,\"\")","v":""}]
["K15",{"$f":"IF('K15'!$B$1<>\"\",'K15'!$B$1,\"\")","v":""},{"$f":"IF('K15'!$A$1<>\"\",'K15'!$A$1,\"\")","v":""},{"$f":"IF('K15'!$B$1<>\"\",'K15'!$E$35+'K15'!$F$35,\"\")","v":""}]
["K16",{"$f":"IF('K16'!$B$1<>\"\",'K16'!$B$1,\"\")","v":""},{"$f":"IF('K16'!$A$1<>\"\",'K16'!$A$1,\"\")","v":""},{"$f":"IF('K16'!$B$1<>\"\",'K16'!$E$35+'K16'!$F$35,\"\")","v":""}]
["K17",{"$f":"IF('K17'!$B$1<>\"\",'K17'!$B$1,\"\")","v":""},{"$f":"IF('K17'!$A$1<>\"\",'K17'!$A$1,\"\")","v":""},{"$f":"IF('K17'!$B$1<>\"\",'K17'!$E$35+'K17'!$F$35,\"\")","v":""}]
["K18",{"$f":"IF('K18'!$B$1<>\"\",'K18'!$B$1,\"\")","v":""},{"$f":"IF('K18'!$A$1<>\"\",'K18'!$A$1,\"\")","v":""},{"$f":"IF('K18'!$B$1<>\"\",'K18'!$E$35+'K18'!$F$35,\"\")","v":""}]
["K19",{"$f":"IF('K19'!$B$1<>\"\",'K19'!$B$1,\"\")","v":""},{"$f":"IF('K19'!$A$1<>\"\",'K19'!$A$1,\"\")","v":""},{"$f":"IF('K19'!$B$1<>\"\",'K19'!$E$35+'K19'!$F$35,\"\")","v":""}]
["K20",{"$f":"IF('K20'!$B$1<>\"\",'K20'!$B$1,\"\")","v":""},{"$f":"IF('K20'!$A$1<>\"\",'K20'!$A$1,\"\")","v":""},{"$f":"IF('K20'!$B$1<>\"\",'K20'!$E$35+'K20'!$F$35,\"\")","v":""}]
["K21",{"$f":"IF('K21'!$B$1<>\"\",'K21'!$B$1,\"\")","v":""},{"$f":"IF('K21'!$A$1<>\"\",'K21'!$A$1,\"\")","v":""},{"$f":"IF('K21'!$B$1<>\"\",'K21'!$E$35+'K21'!$F$35,\"\")","v":""}]
["K22",{"$f":"IF('K22'!$B$1<>\"\",'K22'!$B$1,\"\")","v":""},{"$f":"IF('K22'!$A$1<>\"\",'K22'!$A$1,\"\")","v":""},{"$f":"IF('K22'!$B$1<>\"\",'K22'!$E$35+'K22'!$F$35,\"\")","v":""}]
["K23",{"$f":"IF('K23'!$B$1<>\"\",'K23'!$B$1,\"\")","v":""},{"$f":"IF('K23'!$A$1<>\"\",'K23'!$A$1,\"\")","v":""},{"$f":"IF('K23'!$B$1<>\"\",'K23'!$E$35+'K23'!$F$35,\"\")","v":""}]
["K24",{"$f":"IF('K24'!$B$1<>\"\",'K24'!$B$1,\"\")","v":""},{"$f":"IF('K24'!$A$1<>\"\",'K24'!$A$1,\"\")","v":""},{"$f":"IF('K24'!$B$1<>\"\",'K24'!$E$35+'K24'!$F$35,\"\")","v":""}]
["K25",{"$f":"IF('K25'!$B$1<>\"\",'K25'!$B$1,\"\")","v":""},{"$f":"IF('K25'!$A$1<>\"\",'K25'!$A$1,\"\")","v":""},{"$f":"IF('K25'!$B$1<>\"\",'K25'!$E$35+'K25'!$F$35,\"\")","v":""}]
["K26",{"$f":"IF('K26'!$B$1<>\"\",'K26'!$B$1,\"\")","v":""},{"$f":"IF('K26'!$A$1<>\"\",'K26'!$A$1,\"\")","v":""},{"$f":"IF('K26'!$B$1<>\"\",'K26'!$E$35+'K26'!$F$35,\"\")","v":""}]
["K27",{"$f":"IF('K27'!$B$1<>\"\",'K27'!$B$1,\"\")","v":""},{"$f":"IF('K27'!$A$1<>\"\",'K27'!$A$1,\"\")","v":""},{"$f":"IF('K27'!$B$1<>\"\",'K27'!$E$35+'K27'!$F$35,\"\")","v":""}]
["K28",{"$f":"IF('K28'!$B$1<>\"\",'K28'!$B$1,\"\")","v":""},{"$f":"IF('K28'!$A$1<>\"\",'K28'!$A$1,\"\")","v":""},{"$f":"IF('K28'!$B$1<>\"\",'K28'!$E$35+'K28'!$F$35,\"\")","v":""}]
["K29",{"$f":"IF('K29'!$B$1<>\"\",'K29'!$B$1,\"\")","v":""},{"$f":"IF('K29'!$A$1<>\"\",'K29'!$A$1,\"\")","v":""},{"$f":"IF('K29'!$B$1<>\"\",'K29'!$E$35+'K29'!$F$35,\"\")","v":""}]
["K30",{"$f":"IF('K30'!$B$1<>\"\",'K30'!$B$1,\"\")","v":""},{"$f":"IF('K30'!$A$1<>\"\",'K30'!$A$1,\"\")","v":""},{"$f":"IF('K30'!$B$1<>\"\",'K30'!$E$35+'K30'!$F$35,\"\")","v":""}]
[null,"TOTAL Einzeltherapien",null,{"$f":"SUM(D1:D30)","v":0}]

{"sheet":"SPG","index":2,"n_rows":17,"n_cols":16,"rows_kept":17,"cut":false,"hidden":false,"merged":[]}
["Kind","Abrechner","ID"]
[]
[]
[]
[]
[]
[]
[]
[]
[]
[]
[]
[]
["Therapiezeit in Minuten"]
["Therapeutinnen",null,null,1,1,1,1,1,1,1,1,1,1,1,1,1]
["Anzahl Kinder",null,null,{"$f":"COUNTIF(D2:D13,\"x\")","v":0},{"$f":"COUNTIF(E2:E13,\"x\")","v":0},0,0,0,0,0,0,0,0,0,0,0]
["Minuten / Kind",null,null,{"$f":"IF(D16>0,D14*D15/D16,\"\")","v":""},{"$f":"IF(E16>0,E14*E15/E16,\"\")","v":""},"","","","","","","","","","",""]

{"sheet":"K1","index":3,"n_rows":35,"n_cols":6,"rows_kept":35,"cut":false,"hidden":false,"merged":[[0,1,0,3]]}
[]
[]
["Datum","Minuten","Gespräche","Spesen","Abrechnung","Spesen"]
[null,null,null,null,{"$f":"B4*186.75/60","v":0},{"$f":"IF(OR(D4=\"s\",D4=\"S\",D4=\"h\",D4=\"H\"),87.1,IF(OR(D4=\"e\",D4=\"E\"),185.05,0))","v":0}]
[null,null,null,null,{"$f":"B5*186.75/60","v":0},{"$f":"IF(OR(D5=\"s\",D5=\"S\",D5=\"h\",D5=\"H\"),87.1,IF(OR(D5=\"e\",D5=\"E\"),185.05,0))","v":0}]
[null,null,null,null,0,0]
[null,null,null,null,0,0]
[null,null,null,null,0,0]
[null,null,null,null,0,0]
[null,null,null,null,0,0]
[null,null,null,null,0,0]
[null,null,null,null,0,0]
[null,null,null,null,0,0]
[null,null,null,null,0,0]
[null,null,null,null,0,0]
[null,null,null,null,0,0]
[null,null,null,null,0,0]
[null,null,null,null,0,0]
[null,null,null,null,0,0]
[null,null,null,null,0,0]
[null,null,null,null,0,0]
[null,null,null,null,0,0]
[null,null,null,null,0,0]
[null,null,null,null,0,0]
[null,null,null,null,0,0]
[null,null,null,null,0,0]
[null,null,null,null,0,0]
[null,null,null,null,0,0]
[null,null,null,null,0,0]
[null,null,null,null,0,0]
[null,null,null,null,0,0]
[null,null,null,null,0,0]
[null,null,null,null,0,0]
[null,null,null,null,0,0]
["Total Minuten",{"$f":"SUM(B4:B34)","v":0},null,null,{"$f":"SUM(E4:E34)","v":0},{"$f":"SUM(F4:F34)","v":0}]

{"sheet":"K2","index":4,"n_rows":35,"n_cols":6,"rows_kept":35,"cut":false,"hidden":false,"merged":[[0,1,0,3]]}
[]
[]
["Datum","Minuten","Gespräche","Spesen","Abrechnung","Spesen"]
[null,null,null,null,{"$f":"B4*186.75/60","v":0},{"$f":"IF(OR(D4=\"s\",D4=\"S\",D4=\"h\",D4=\"H\"),87.1,IF(OR(D4=\"e\",D4=\"E\"),185.05,0))","v":0}]
[null,null,null,null,{"$f":"B5*186.75/60","v":0},{"$f":"IF(OR(D5=\"s\",D5=\"S\",D5=\"h\",D5=\"H\"),87.1,IF(OR(D5=\"e\",D5=\"E\"),185.05,0))","v":0}]
[null,null,null,null,0,0]
[null,null,null,null,0,0]
[null,null,null,null,0,0]
[null,null,null,null,0,0]
[null,null,null,null,0,0]
[null,null,null,null,0,0]
[null,null,null,null,0,0]
[null,null,null,null,0,0]
[null,null,null,null,0,0]
[null,null,null,null,0,0]
[null,null,null,null,0,0]
[null,null,null,null,0,0]
[null,null,null,null,0,0]
[null,null,null,null,0,0]
[null,null,null,null,0,0]
[null,null,null,null,0,0]
[null,null,null,null,0,0]
[null,null,null,null,0,0]
[null,null,null,null,0,0]
[null,null,null,null,0,0]
[null,null,null,null,0,0]
[null,null,null,null,0,0]
[null,null,null,null,0,0]
[null,null,null,null,0,0]
[null,null,null,null,0,0]
[null,null,null,null,0,0]
[null,null,null,null,0,0]
[null,null,null,null,0,0]
[null,null,null,null,0,0]
["Total Minuten",{"$f":"SUM(B4:B34)","v":0},null,null,{"$f":"SUM(E4:E34)","v":0},{"$f":"SUM(F4:F34)","v":0}]

{"sheet":"K3","index":5,"n_rows":35,"n_cols":6,"rows_kept":35,"cut":false,"hidden":false,"merged":[[0,1,0,3]]}
[]
[]
["Datum","Minuten","Gespräche","Spesen","Abrechnung","Spesen"]
[null,null,null,null,{"$f":"B4*186.75/60","v":0},{"$f":"IF(OR(D4=\"s\",D4=\"S\",D4=\"h\",D4=\"H\"),87.1,IF(OR(D4=\"e\",D4=\"E\"),185.05,0))","v":0}]
[null,null,null,null,{"$f":"B5*186.75/60","v":0},{"$f":"IF(OR(D5=\"s\",D5=\"S\",D5=\"h\",D5=\"H\"),87.1,IF(OR(D5=\"e\",D5=\"E\"),185.05,0))","v":0}]
[null,null,null,null,0,0]
[null,null,null,null,0,0]
[null,null,null,null,0,0]
[null,null,null,null,0,0]
[null,null,null,null,0,0]
[null,null,null,null,0,0]
[null,null,null,null,0,0]
[null,null,null,null,0,0]
[null,null,null,null,0,0]
[null,null,null,null,0,0]
[null,null,null,null,0,0]
[null,null,null,null,0,0]
[null,null,null,null,0,0]
[null,null,null,null,0,0]
[null,null,null,null,0,0]
[null,null,null,null,0,0]
[null,null,null,null,0,0]
[null,null,null,null,0,0]
[null,null,null,null,0,0]
[null,null,null,null,0,0]
[null,null,null,null,0,0]
[null,null,null,null,0,0]
[null,null,null,null,0,0]
[null,null,null,null,0,0]
[null,null,null,null,0,0]
[null,null,null,null,0,0]
[null,null,null,null,0,0]
[null,null,null,null,0,0]
[null,null,null,null,0,0]
["Total Minuten",{"$f":"SUM(B4:B34)","v":0},null,null,{"$f":"SUM(E4:E34)","v":0},{"$f":"SUM(F4:F34)","v":0}]

{"sheet":"K4","index":6,"n_rows":35,"n_cols":6,"rows_kept":35,"cut":false,"hidden":false,"merged":[[0,1,0,3]]}
[]
[]
["Datum","Minuten","Gespräche","Spesen","Abrechnung","Spesen"]
[null,null,null,null,{"$f":"B4*186.75/60","v":0},{"$f":"IF(OR(D4=\"s\",D4=\"S\",D4=\"h\",D4=\"H\"),87.1,IF(OR(D4=\"e\",D4=\"E\"),185.05,0))","v":0}]
[null,null,null,null,{"$f":"B5*186.75/60","v":0},{"$f":"IF(OR(D5=\"s\",D5=\"S\",D5=\"h\",D5=\"H\"),87.1,IF(OR(D5=\"e\",D5=\"E\"),185.05,0))","v":0}]
[null,null,null,null,0,0]
[null,null,null,null,0,0]
[null,null,null,null,0,0]
[null,null,null,null,0,0]
[null,null,null,null,0,0]
[null,null,null,null,0,0]
[null,null,null,null,0,0]
[null,null,null,null,0,0]
[null,null,null,null,0,0]
[null,null,null,null,0,0]
[null,null,null,null,0,0]
[null,null,null,null,0,0]
[null,null,null,null,0,0]
[null,null,null,null,0,0]
[null,null,null,null,0,0]
[null,null,null,null,0,0]
[null,null,null,null,0,0]
[null,null,null,null,0,0]
[null,null,null,null,0,0]
[null,null,null,null,0,0]
[null,null,null,null,0,0]
[null,null,null,null,0,0]
[null,null,null,null,0,0]
[null,null,null,null,0,0]
[null,null,null,null,0,0]
[null,null,null,null,0,0]
[null,null,null,null,0,0]
[null,null,null,null,0,0]
[null,null,null,null,0,0]
["Total Minuten",{"$f":"SUM(B4:B34)","v":0},null,null,{"$f":"SUM(E4:E34)","v":0},{"$f":"SUM(F4:F34)","v":0}]

{"sheet":"K5","index":7,"n_rows":35,"n_cols":6,"rows_kept":35,"cut":false,"hidden":false,"merged":[[0,1,0,3]]}
[]
[]
["Datum","Minuten","Gespräche","Spesen","Abrechnung","Spesen"]
[null,null,null,null,{"$f":"B4*186.75/60","v":0},{"$f":"IF(OR(D4=\"s\",D4=\"S\",D4=\"h\",D4=\"H\"),87.1,IF(OR(D4=\"e\",D4=\"E\"),185.05,0))","v":0}]
[null,null,null,null,{"$f":"B5*186.75/60","v":0},{"$f":"IF(OR(D5=\"s\",D5=\"S\",D5=\"h\",D5=\"H\"),87.1,IF(OR(D5=\"e\",D5=\"E\"),185.05,0))","v":0}]
[null,null,null,null,0,0]
[null,null,null,null,0,0]
[null,null,null,null,0,0]
[null,null,null,null,0,0]
[null,null,null,null,0,0]
[null,null,null,null,0,0]
[null,null,null,null,0,0]
[null,null,null,null,0,0]
[null,null,null,null,0,0]
[null,null,null,null,0,0]
[null,null,null,null,0,0]
[null,null,null,null,0,0]
[null,null,null,null,0,0]
[null,null,null,null,0,0]
[null,null,null,null,0,0]
[null,null,null,null,0,0]
[null,null,null,null,0,0]
[null,null,null,null,0,0]
[null,null,null,null,0,0]
[null,null,null,null,0,0]
[null,null,null,null,0,0]
[null,null,null,null,0,0]
[null,null,null,null,0,0]
[null,null,null,null,0,0]
[null,null,null,null,0,0]
[null,null,null,null,0,0]
[null,null,null,null,0,0]
[null,null,null,null,0,0]
[null,null,null,null,0,0]
["Total Minuten",{"$f":"SUM(B4:B34)","v":0},null,null,{"$f":"SUM(E4:E34)","v":0},{"$f":"SUM(F4:F34)","v":0}]

{"sheet":"K6","index":8,"n_rows":35,"n_cols":6,"rows_kept":35,"cut":false,"hidden":false,"merged":[[0,1,0,3]]}
[]
[]
["Datum","Minuten","Gespräche","Spesen","Abrechnung","Spesen"]
[null,null,null,null,{"$f":"B4*186.75/60","v":0},{"$f":"IF(OR(D4=\"s\",D4=\"S\",D4=\"h\",D4=\"H\"),87.1,IF(OR(D4=\"e\",D4=\"E\"),185.05,0))","v":0}]
[null,null,null,null,{"$f":"B5*186.75/60","v":0},{"$f":"IF(OR(D5=\"s\",D5=\"S\",D5=\"h\",D5=\"H\"),87.1,IF(OR(D5=\"e\",D5=\"E\"),185.05,0))","v":0}]
[null,null,null,null,0,0]
[null,null,null,null,0,0]
[null,null,null,null,0,0]
[null,null,null,null,0,0]
[null,null,null,null,0,0]
[null,null,null,null,0,0]
[null,null,null,null,0,0]
[null,null,null,null,0,0]
[null,null,null,null,0,0]
[null,null,null,null,0,0]
[null,null,null,null,0,0]
[null,null,null,null,0,0]
[null,null,null,null,0,0]
[null,null,null,null,0,0]
[null,null,null,null,0,0]
[null,null,null,null,0,0]
[null,null,null,null,0,0]
[null,null,null,null,0,0]
[null,null,null,null,0,0]
[null,null,null,null,0,0]
[null,null,null,null,0,0]
[null,null,null,null,0,0]
[null,null,null,null,0,0]
[null,null,null,null,0,0]
[null,null,null,null,0,0]
[null,null,null,null,0,0]
[null,null,null,null,0,0]
[null,null,null,null,0,0]
[null,null,null,null,0,0]
["Total Minuten",{"$f":"SUM(B4:B34)","v":0},null,null,{"$f":"SUM(E4:E34)","v":0},{"$f":"SUM(F4:F34)","v":0}]

{"sheet":"K7","index":9,"n_rows":35,"n_cols":6,"rows_kept":35,"cut":false,"hidden":false,"merged":[[0,1,0,3]]}
[]
[]
["Datum","Minuten","Gespräche","Spesen","Abrechnung","Spesen"]
[null,null,null,null,{"$f":"B4*186.75/60","v":0},{"$f":"IF(OR(D4=\"s\",D4=\"S\",D4=\"h\",D4=\"H\"),87.1,IF(OR(D4=\"e\",D4=\"E\"),185.05,0))","v":0}]
[null,null,null,null,{"$f":"B5*186.75/60","v":0},{"$f":"IF(OR(D5=\"s\",D5=\"S\",D5=\"h\",D5=\"H\"),87.1,IF(OR(D5=\"e\",D5=\"E\"),185.05,0))","v":0}]
[null,null,null,null,0,0]
[null,null,null,null,0,0]
[null,null,null,null,0,0]
[null,null,null,null,0,0]
[null,null,null,null,0,0]
[null,null,null,null,0,0]
[null,null,null,null,0,0]
[null,null,null,null,0,0]
[null,null,null,null,0,0]
[null,null,null,null,0,0]
[null,null,null,null,0,0]
[null,null,null,null,0,0]
[null,null,null,null,0,0]
[null,null,null,null,0,0]
[null,null,null,null,0,0]
[null,null,null,null,0,0]
[null,null,null,null,0,0]
[null,null,null,null,0,0]
[null,null,null,null,0,0]
[null,null,null,null,0,0]
[null,null,null,null,0,0]
[null,null,null,null,0,0]
[null,null,null,null,0,0]
[null,null,null,null,0,0]
[null,null,null,null,0,0]
[null,null,null,null,0,0]
[null,null,null,null,0,0]
[null,null,null,null,0,0]
[null,null,null,null,0,0]
["Total Minuten",{"$f":"SUM(B4:B34)","v":0},null,null,{"$f":"SUM(E4:E34)","v":0},{"$f":"SUM(F4:F34)","v":0}]

{"sheet":"K8","index":10,"n_rows":35,"n_cols":6,"rows_kept":35,"cut":false,"hidden":false,"merged":[[0,1,0,3]]}
[]
[]
["Datum","Minuten","Gespräche","Spesen","Abrechnung","Spesen"]
[null,null,null,null,{"$f":"B4*186.75/60","v":0},{"$f":"IF(OR(D4=\"s\",D4=\"S\",D4=\"h\",D4=\"H\"),87.1,IF(OR(D4=\"e\",D4=\"E\"),185.05,0))","v":0}]
[null,null,null,null,{"$f":"B5*186.75/60","v":0},{"$f":"IF(OR(D5=\"s\",D5=\"S\",D5=\"h\",D5=\"H\"),87.1,IF(OR(D5=\"e\",D5=\"E\"),185.05,0))","v":0}]
[null,null,null,null,0,0]
[null,null,null,null,0,0]
[null,null,null,null,0,0]
[null,null,null,null,0,0]
[null,null,null,null,0,0]
[null,null,null,null,0,0]
[null,null,null,null,0,0]
[null,null,null,null,0,0]
[null,null,null,null,0,0]
[null,null,null,null,0,0]
[null,null,null,null,0,0]
[null,null,null,null,0,0]
[null,null,null,null,0,0]
[null,null,null,null,0,0]
[null,null,null,null,0,0]
[null,null,null,null,0,0]
[null,null,null,null,0,0]
[null,null,null,null,0,0]
[null,null,null,null,0,0]
[null,null,null,null,0,0]
[null,null,null,null,0,0]
[null,null,null,null,0,0]
[null,null,null,null,0,0]
[null,null,null,null,0,0]
[null,null,null,null,0,0]
[null,null,null,null,0,0]
[null,null,null,null,0,0]
[null,null,null,null,0,0]
[null,null,null,null,0,0]
["Total Minuten",{"$f":"SUM(B4:B34)","v":0},null,null,{"$f":"SUM(E4:E34)","v":0},{"$f":"SUM(F4:F34)","v":0}]

{"sheet":"K9","index":11,"n_rows":35,"n_cols":6,"rows_kept":35,"cut":false,"hidden":false,"merged":[[0,1,0,3]]}
[]
[]
["Datum","Minuten","Gespräche","Spesen","Abrechnung","Spesen"]
[null,null,null,null,{"$f":"B4*186.75/60","v":0},{"$f":"IF(OR(D4=\"s\",D4=\"S\",D4=\"h\",D4=\"H\"),87.1,IF(OR(D4=\"e\",D4=\"E\"),185.05,0))","v":0}]
[null,null,null,null,{"$f":"B5*186.75/60","v":0},{"$f":"IF(OR(D5=\"s\",D5=\"S\",D5=\"h\",D5=\"H\"),87.1,IF(OR(D5=\"e\",D5=\"E\"),185.05,0))","v":0}]
[null,null,null,null,0,0]
[null,null,null,null,0,0]
[null,null,null,null,0,0]
[null,null,null,null,0,0]
[null,null,null,null,0,0]
[null,null,null,null,0,0]
[null,null,null,null,0,0]
[null,null,null,null,0,0]
[null,null,null,null,0,0]
[null,null,null,null,0,0]
[null,null,null,null,0,0]
[null,null,null,null,0,0]
[null,null,null,null,0,0]
[null,null,null,null,0,0]
[null,null,null,null,0,0]
[null,null,null,null,0,0]
[null,null,null,null,0,0]
[null,null,null,null,0,0]
[null,null,null,null,0,0]
[null,null,null,null,0,0]
[null,null,null,null,0,0]
[null,null,null,null,0,0]
[null,null,null,null,0,0]
[null,null,null,null,0,0]
[null,null,null,null,0,0]
[null,null,null,null,0,0]
[null,null,null,null,0,0]
[null,null,null,null,0,0]
[null,null,null,null,0,0]
["Total Minuten",{"$f":"SUM(B4:B34)","v":0},null,null,{"$f":"SUM(E4:E34)","v":0},{"$f":"SUM(F4:F34)","v":0}]

{"sheet":"K10","index":12,"n_rows":35,"n_cols":6,"rows_kept":35,"cut":false,"hidden":false,"merged":[[0,1,0,3]]}
[]
[]
["Datum","Minuten","Gespräche","Spesen","Abrechnung","Spesen"]
[null,null,null,null,{"$f":"B4*186.75/60","v":0},{"$f":"IF(OR(D4=\"s\",D4=\"S\",D4=\"h\",D4=\"H\"),87.1,IF(OR(D4=\"e\",D4=\"E\"),185.05,0))","v":0}]
[null,null,null,null,{"$f":"B5*186.75/60","v":0},{"$f":"IF(OR(D5=\"s\",D5=\"S\",D5=\"h\",D5=\"H\"),87.1,IF(OR(D5=\"e\",D5=\"E\"),185.05,0))","v":0}]
[null,null,null,null,0,0]
[null,null,null,null,0,0]
[null,null,null,null,0,0]
[null,null,null,null,0,0]
[null,null,null,null,0,0]
[null,null,null,null,0,0]
[null,null,null,null,0,0]
[null,null,null,null,0,0]
[null,null,null,null,0,0]
[null,null,null,null,0,0]
[null,null,null,null,0,0]
[null,null,null,null,0,0]
[null,null,null,null,0,0]
[null,null,null,null,0,0]
[null,null,null,null,0,0]
[null,null,null,null,0,0]
[null,null,null,null,0,0]
[null,null,null,null,0,0]
[null,null,null,null,0,0]
[null,null,null,null,0,0]
[null,null,null,null,0,0]
[null,null,null,null,0,0]
[null,null,null,null,0,0]
[null,null,null,null,0,0]
[null,null,null,null,0,0]
[null,null,null,null,0,0]
[null,null,null,null,0,0]
[null,null,null,null,0,0]
[null,null,null,null,0,0]
["Total Minuten",{"$f":"SUM(B4:B34)","v":0},null,null,{"$f":"SUM(E4:E34)","v":0},{"$f":"SUM(F4:F34)","v":0}]

{"sheet":"K11","index":13,"n_rows":35,"n_cols":6,"rows_kept":35,"cut":false,"hidden":false,"merged":[[0,1,0,3]]}
[]
[]
["Datum","Minuten","Gespräche","Spesen","Abrechnung","Spesen"]
[null,null,null,null,{"$f":"B4*186.75/60","v":0},{"$f":"IF(OR(D4=\"s\",D4=\"S\",D4=\"h\",D4=\"H\"),87.1,IF(OR(D4=\"e\",D4=\"E\"),185.05,0))","v":0}]
[null,null,null,null,{"$f":"B5*186.75/60","v":0},{"$f":"IF(OR(D5=\"s\",D5=\"S\",D5=\"h\",D5=\"H\"),87.1,IF(OR(D5=\"e\",D5=\"E\"),185.05,0))","v":0}]
[null,null,null,null,0,0]
[null,null,null,null,0,0]
[null,null,null,null,0,0]
[null,null,null,null,0,0]
[null,null,null,null,0,0]
[null,null,null,null,0,0]
[null,null,null,null,0,0]
[null,null,null,null,0,0]
[null,null,null,null,0,0]
[null,null,null,null,0,0]
[null,null,null,null,0,0]
[null,null,null,null,0,0]
[null,null,null,null,0,0]
[null,null,null,null,0,0]
[null,null,null,null,0,0]
[null,null,null,null,0,0]
[null,null,null,null,0,0]
[null,null,null,null,0,0]
[null,null,null,null,0,0]
[null,null,null,null,0,0]
[null,null,null,null,0,0]
[null,null,null,null,0,0]
[null,null,null,null,0,0]
[null,null,null,null,0,0]
[null,null,null,null,0,0]
[null,null,null,null,0,0]
[null,null,null,null,0,0]
[null,null,null,null,0,0]
[null,null,null,null,0,0]
["Total Minuten",{"$f":"SUM(B4:B34)","v":0},null,null,{"$f":"SUM(E4:E34)","v":0},{"$f":"SUM(F4:F34)","v":0}]

{"sheet":"K12","index":14,"n_rows":35,"n_cols":6,"rows_kept":35,"cut":false,"hidden":false,"merged":[[0,1,0,3]]}
[]
[]
["Datum","Minuten","Gespräche","Spesen","Abrechnung","Spesen"]
[null,null,null,null,{"$f":"B4*186.75/60","v":0},{"$f":"IF(OR(D4=\"s\",D4=\"S\",D4=\"h\",D4=\"H\"),87.1,IF(OR(D4=\"e\",D4=\"E\"),185.05,0))","v":0}]
[null,null,null,null,{"$f":"B5*186.75/60","v":0},{"$f":"IF(OR(D5=\"s\",D5=\"S\",D5=\"h\",D5=\"H\"),87.1,IF(OR(D5=\"e\",D5=\"E\"),185.05,0))","v":0}]
[null,null,null,null,0,0]
[null,null,null,null,0,0]
[null,null,null,null,0,0]
[null,null,null,null,0,0]
[null,null,null,null,0,0]
[null,null,null,null,0,0]
[null,null,null,null,0,0]
[null,null,null,null,0,0]
[null,null,null,null,0,0]
[null,null,null,null,0,0]
[null,null,null,null,0,0]
[null,null,null,null,0,0]
[null,null,null,null,0,0]
[null,null,null,null,0,0]
[null,null,null,null,0,0]
[null,null,null,null,0,0]
[null,null,null,null,0,0]
[null,null,null,null,0,0]
[null,null,null,null,0,0]
[null,null,null,null,0,0]
[null,null,null,null,0,0]
[null,null,null,null,0,0]
[null,null,null,null,0,0]
[null,null,null,null,0,0]
[null,null,null,null,0,0]
[null,null,null,null,0,0]
[null,null,null,null,0,0]
[null,null,null,null,0,0]
[null,null,null,null,0,0]
["Total Minuten",{"$f":"SUM(B4:B34)","v":0},null,null,{"$f":"SUM(E4:E34)","v":0},{"$f":"SUM(F4:F34)","v":0}]

{"sheet":"K13","index":15,"n_rows":35,"n_cols":6,"rows_kept":35,"cut":false,"hidden":false,"merged":[[0,1,0,3]]}
[]
[]
["Datum","Minuten","Gespräche","Spesen","Abrechnung","Spesen"]
[null,null,null,null,{"$f":"B4*186.75/60","v":0},{"$f":"IF(OR(D4=\"s\",D4=\"S\",D4=\"h\",D4=\"H\"),87.1,IF(OR(D4=\"e\",D4=\"E\"),185.05,0))","v":0}]
[null,null,null,null,{"$f":"B5*186.75/60","v":0},{"$f":"IF(OR(D5=\"s\",D5=\"S\",D5=\"h\",D5=\"H\"),87.1,IF(OR(D5=\"e\",D5=\"E\"),185.05,0))","v":0}]
[null,null,null,null,0,0]
[null,null,null,null,0,0]
[null,null,null,null,0,0]
[null,null,null,null,0,0]
[null,null,null,null,0,0]
[null,null,null,null,0,0]
[null,null,null,null,0,0]
[null,null,null,null,0,0]
[null,null,null,null,0,0]
[null,null,null,null,0,0]
[null,null,null,null,0,0]
[null,null,null,null,0,0]
[null,null,null,null,0,0]
[null,null,null,null,0,0]
[null,null,null,null,0,0]
[null,null,null,null,0,0]
[null,null,null,null,0,0]
[null,null,null,null,0,0]
[null,null,null,null,0,0]
[null,null,null,null,0,0]
[null,null,null,null,0,0]
[null,null,null,null,0,0]
[null,null,null,null,0,0]
[null,null,null,null,0,0]
[null,null,null,null,0,0]
[null,null,null,null,0,0]
[null,null,null,null,0,0]
[null,null,null,null,0,0]
[null,null,null,null,0,0]
["Total Minuten",{"$f":"SUM(B4:B34)","v":0},null,null,{"$f":"SUM(E4:E34)","v":0},{"$f":"SUM(F4:F34)","v":0}]

{"sheet":"K14","index":16,"n_rows":35,"n_cols":6,"rows_kept":35,"cut":false,"hidden":false,"merged":[[0,1,0,3]]}
[]
[]
["Datum","Minuten","Gespräche","Spesen","Abrechnung","Spesen"]
[null,null,null,null,{"$f":"B4*186.75/60","v":0},{"$f":"IF(OR(D4=\"s\",D4=\"S\",D4=\"h\",D4=\"H\"),87.1,IF(OR(D4=\"e\",D4=\"E\"),185.05,0))","v":0}]
[null,null,null,null,{"$f":"B5*186.75/60","v":0},{"$f":"IF(OR(D5=\"s\",D5=\"S\",D5=\"h\",D5=\"H\"),87.1,IF(OR(D5=\"e\",D5=\"E\"),185.05,0))","v":0}]
[null,null,null,null,0,0]
[null,null,null,null,0,0]
[null,null,null,null,0,0]
[null,null,null,null,0,0]
[null,null,null,null,0,0]
[null,null,null,null,0,0]
[null,null,null,null,0,0]
[null,null,null,null,0,0]
[null,null,null,null,0,0]
[null,null,null,null,0,0]
[null,null,null,null,0,0]
[null,null,null,null,0,0]
[null,null,null,null,0,0]
[null,null,null,null,0,0]
[null,null,null,null,0,0]
[null,null,null,null,0,0]
[null,null,null,null,0,0]
[null,null,null,null,0,0]
[null,null,null,null,0,0]
[null,null,null,null,0,0]
[null,null,null,null,0,0]
[null,null,null,null,0,0]
[null,null,null,null,0,0]
[null,null,null,null,0,0]
[null,null,null,null,0,0]
[null,null,null,null,0,0]
[null,null,null,null,0,0]
[null,null,null,null,0,0]
[null,null,null,null,0,0]
["Total Minuten",{"$f":"SUM(B4:B34)","v":0},null,null,{"$f":"SUM(E4:E34)","v":0},{"$f":"SUM(F4:F34)","v":0}]

{"sheet":"K15","index":17,"n_rows":35,"n_cols":6,"rows_kept":35,"cut":false,"hidden":false,"merged":[[0,1,0,3]]}
[]
[]
["Datum","Minuten","Gespräche","Spesen","Abrechnung","Spesen"]
[null,null,null,null,{"$f":"B4*186.75/60","v":0},{"$f":"IF(OR(D4=\"s\",D4=\"S\",D4=\"h\",D4=\"H\"),87.1,IF(OR(D4=\"e\",D4=\"E\"),185.05,0))","v":0}]
[null,null,null,null,{"$f":"B5*186.75/60","v":0},{"$f":"IF(OR(D5=\"s\",D5=\"S\",D5=\"h\",D5=\"H\"),87.1,IF(OR(D5=\"e\",D5=\"E\"),185.05,0))","v":0}]
[null,null,null,null,0,0]
[null,null,null,null,0,0]
[null,null,null,null,0,0]
[null,null,null,null,0,0]
[null,null,null,null,0,0]
[null,null,null,null,0,0]
[null,null,null,null,0,0]
[null,null,null,null,0,0]
[null,null,null,null,0,0]
[null,null,null,null,0,0]
[null,null,null,null,0,0]
[null,null,null,null,0,0]
[null,null,null,null,0,0]
[null,null,null,null,0,0]
[null,null,null,null,0,0]
[null,null,null,null,0,0]
[null,null,null,null,0,0]
[null,null,null,null,0,0]
[null,null,null,null,0,0]
[null,null,null,null,0,0]
[null,null,null,null,0,0]
[null,null,null,null,0,0]
[null,null,null,null,0,0]
[null,null,null,null,0,0]
[null,null,null,null,0,0]
[null,null,null,null,0,0]
[null,null,null,null,0,0]
[null,null,null,null,0,0]
[null,null,null,null,0,0]
["Total Minuten",{"$f":"SUM(B4:B34)","v":0},null,null,{"$f":"SUM(E4:E34)","v":0},{"$f":"SUM(F4:F34)","v":0}]

{"sheet":"K16","index":18,"n_rows":35,"n_cols":6,"rows_kept":35,"cut":false,"hidden":false,"merged":[[0,1,0,3]]}
[]
[]
["Datum","Minuten","Gespräche","Spesen","Abrechnung","Spesen"]
[null,null,null,null,{"$f":"B4*186.75/60","v":0},{"$f":"IF(OR(D4=\"s\",D4=\"S\",D4=\"h\",D4=\"H\"),87.1,IF(OR(D4=\"e\",D4=\"E\"),185.05,0))","v":0}]
[null,null,null,null,{"$f":"B5*186.75/60","v":0},{"$f":"IF(OR(D5=\"s\",D5=\"S\",D5=\"h\",D5=\"H\"),87.1,IF(OR(D5=\"e\",D5=\"E\"),185.05,0))","v":0}]
[null,null,null,null,0,0]
[null,null,null,null,0,0]
[null,null,null,null,0,0]
[null,null,null,null,0,0]
[null,null,null,null,0,0]
[null,null,null,null,0,0]
[null,null,null,null,0,0]
[null,null,null,null,0,0]
[null,null,null,null,0,0]
[null,null,null,null,0,0]
[null,null,null,null,0,0]
[null,null,null,null,0,0]
[null,null,null,null,0,0]
[null,null,null,null,0,0]
[null,null,null,null,0,0]
[null,null,null,null,0,0]
[null,null,null,null,0,0]
[null,null,null,null,0,0]
[null,null,null,null,0,0]
[null,null,null,null,0,0]
[null,null,null,null,0,0]
[null,null,null,null,0,0]
[null,null,null,null,0,0]
[null,null,null,null,0,0]
[null,null,null,null,0,0]
[null,null,null,null,0,0]
[null,null,null,null,0,0]
[null,null,null,null,0,0]
[null,null,null,null,0,0]
["Total Minuten",{"$f":"SUM(B4:B34)","v":0},null,null,{"$f":"SUM(E4:E34)","v":0},{"$f":"SUM(F4:F34)","v":0}]

{"sheet":"K17","index":19,"n_rows":35,"n_cols":6,"rows_kept":35,"cut":false,"hidden":false,"merged":[[0,1,0,3]]}
[]
[]
["Datum","Minuten","Gespräche","Spesen","Abrechnung","Spesen"]
[null,null,null,null,{"$f":"B4*186.75/60","v":0},{"$f":"IF(OR(D4=\"s\",D4=\"S\",D4=\"h\",D4=\"H\"),87.1,IF(OR(D4=\"e\",D4=\"E\"),185.05,0))","v":0}]
[null,null,null,null,{"$f":"B5*186.75/60","v":0},{"$f":"IF(OR(D5=\"s\",D5=\"S\",D5=\"h\",D5=\"H\"),87.1,IF(OR(D5=\"e\",D5=\"E\"),185.05,0))","v":0}]
[null,null,null,null,0,0]
[null,null,null,null,0,0]
[null,null,null,null,0,0]
[null,null,null,null,0,0]
[null,null,null,null,0,0]
[null,null,null,null,0,0]
[null,null,null,null,0,0]
[null,null,null,null,0,0]
[null,null,null,null,0,0]
[null,null,null,null,0,0]
[null,null,null,null,0,0]
[null,null,null,null,0,0]
[null,null,null,null,0,0]
[null,null,null,null,0,0]
[null,null,null,null,0,0]
[null,null,null,null,0,0]
[null,null,null,null,0,0]
[null,null,null,null,0,0]
[null,null,null,null,0,0]
[null,null,null,null,0,0]
[null,null,null,null,0,0]
[null,null,null,null,0,0]
[null,null,null,null,0,0]
[null,null,null,null,0,0]
[null,null,null,null,0,0]
[null,null,null,null,0,0]
[null,null,null,null,0,0]
[null,null,null,null,0,0]
[null,null,null,null,0,0]
["Total Minuten",{"$f":"SUM(B4:B34)","v":0},null,null,{"$f":"SUM(E4:E34)","v":0},{"$f":"SUM(F4:F34)","v":0}]

{"sheet":"K18","index":20,"n_rows":35,"n_cols":6,"rows_kept":35,"cut":false,"hidden":false,"merged":[[0,1,0,3]]}
[]
[]
["Datum","Minuten","Gespräche","Spesen","Abrechnung","Spesen"]
[null,null,null,null,{"$f":"B4*186.75/60","v":0},{"$f":"IF(OR(D4=\"s\",D4=\"S\",D4=\"h\",D4=\"H\"),87.1,IF(OR(D4=\"e\",D4=\"E\"),185.05,0))","v":0}]
[null,null,null,null,{"$f":"B5*186.75/60","v":0},{"$f":"IF(OR(D5=\"s\",D5=\"S\",D5=\"h\",D5=\"H\"),87.1,IF(OR(D5=\"e\",D5=\"E\"),185.05,0))","v":0}]
[null,null,null,null,0,0]
[null,null,null,null,0,0]
[null,null,null,null,0,0]
[null,null,null,null,0,0]
[null,null,null,null,0,0]
[null,null,null,null,0,0]
[null,null,null,null,0,0]
[null,null,null,null,0,0]
[null,null,null,null,0,0]
[null,null,null,null,0,0]
[null,null,null,null,0,0]
[null,null,null,null,0,0]
[null,null,null,null,0,0]
[null,null,null,null,0,0]
[null,null,null,null,0,0]
[null,null,null,null,0,0]
[null,null,null,null,0,0]
[null,null,null,null,0,0]
[null,null,null,null,0,0]
[null,null,null,null,0,0]
[null,null,null,null,0,0]
[null,null,null,null,0,0]
[null,null,null,null,0,0]
[null,null,null,null,0,0]
[null,null,null,null,0,0]
[null,null,null,null,0,0]
[null,null,null,null,0,0]
[null,null,null,null,0,0]
[null,null,null,null,0,0]
["Total Minuten",{"$f":"SUM(B4:B34)","v":0},null,null,{"$f":"SUM(E4:E34)","v":0},{"$f":"SUM(F4:F34)","v":0}]

{"sheet":"K19","index":21,"n_rows":35,"n_cols":6,"rows_kept":35,"cut":false,"hidden":false,"merged":[[0,1,0,3]]}
[]
[]
["Datum","Minuten","Gespräche","Spesen","Abrechnung","Spesen"]
[null,null,null,null,{"$f":"B4*186.75/60","v":0},{"$f":"IF(OR(D4=\"s\",D4=\"S\",D4=\"h\",D4=\"H\"),87.1,IF(OR(D4=\"e\",D4=\"E\"),185.05,0))","v":0}]
[null,null,null,null,{"$f":"B5*186.75/60","v":0},{"$f":"IF(OR(D5=\"s\",D5=\"S\",D5=\"h\",D5=\"H\"),87.1,IF(OR(D5=\"e\",D5=\"E\"),185.05,0))","v":0}]
[null,null,null,null,0,0]
[null,null,null,null,0,0]
[null,null,null,null,0,0]
[null,null,null,null,0,0]
[null,null,null,null,0,0]
[null,null,null,null,0,0]
[null,null,null,null,0,0]
[null,null,null,null,0,0]
[null,null,null,null,0,0]
[null,null,null,null,0,0]
[null,null,null,null,0,0]
[null,null,null,null,0,0]
[null,null,null,null,0,0]
[null,null,null,null,0,0]
[null,null,null,null,0,0]
[null,null,null,null,0,0]
[null,null,null,null,0,0]
[null,null,null,null,0,0]
[null,null,null,null,0,0]
[null,null,null,null,0,0]
[null,null,null,null,0,0]
[null,null,null,null,0,0]
[null,null,null,null,0,0]
[null,null,null,null,0,0]
[null,null,null,null,0,0]
[null,null,null,null,0,0]
[null,null,null,null,0,0]
[null,null,null,null,0,0]
[null,null,null,null,0,0]
["Total Minuten",{"$f":"SUM(B4:B34)","v":0},null,null,{"$f":"SUM(E4:E34)","v":0},{"$f":"SUM(F4:F34)","v":0}]

{"sheet":"K20","index":22,"n_rows":35,"n_cols":6,"rows_kept":35,"cut":false,"hidden":false,"merged":[[0,1,0,3]]}
[]
[]
["Datum","Minuten","Gespräche","Spesen","Abrechnung","Spesen"]
[null,null,null,null,{"$f":"B4*186.75/60","v":0},{"$f":"IF(OR(D4=\"s\",D4=\"S\",D4=\"h\",D4=\"H\"),87.1,IF(OR(D4=\"e\",D4=\"E\"),185.05,0))","v":0}]
[null,null,null,null,{"$f":"B5*186.75/60","v":0},{"$f":"IF(OR(D5=\"s\",D5=\"S\",D5=\"h\",D5=\"H\"),87.1,IF(OR(D5=\"e\",D5=\"E\"),185.05,0))","v":0}]
[null,null,null,null,0,0]
[null,null,null,null,0,0]
[null,null,null,null,0,0]
[null,null,null,null,0,0]
[null,null,null,null,0,0]
[null,null,null,null,0,0]
[null,null,null,null,0,0]
[null,null,null,null,0,0]
[null,null,null,null,0,0]
[null,null,null,null,0,0]
[null,null,null,null,0,0]
[null,null,null,null,0,0]
[null,null,null,null,0,0]
[null,null,null,null,0,0]
[null,null,null,null,0,0]
[null,null,null,null,0,0]
[null,null,null,null,0,0]
[null,null,null,null,0,0]
[null,null,null,null,0,0]
[null,null,null,null,0,0]
[null,null,null,null,0,0]
[null,null,null,null,0,0]
[null,null,null,null,0,0]
[null,null,null,null,0,0]
[null,null,null,null,0,0]
[null,null,null,null,0,0]
[null,null,null,null,0,0]
[null,null,null,null,0,0]
[null,null,null,null,0,0]
["Total Minuten",{"$f":"SUM(B4:B34)","v":0},null,null,{"$f":"SUM(E4:E34)","v":0},{"$f":"SUM(F4:F34)","v":0}]

{"sheet":"K21","index":23,"n_rows":35,"n_cols":6,"rows_kept":35,"cut":false,"hidden":false,"merged":[[0,1,0,3]]}
[]
[]
["Datum","Minuten","Gespräche","Spesen","Abrechnung","Spesen"]
[null,null,null,null,{"$f":"B4*186.75/60","v":0},{"$f":"IF(OR(D4=\"s\",D4=\"S\",D4=\"h\",D4=\"H\"),87.1,IF(OR(D4=\"e\",D4=\"E\"),185.05,0))","v":0}]
[null,null,null,null,{"$f":"B5*186.75/60","v":0},{"$f":"IF(OR(D5=\"s\",D5=\"S\",D5=\"h\",D5=\"H\"),87.1,IF(OR(D5=\"e\",D5=\"E\"),185.05,0))","v":0}]
[null,null,null,null,0,0]
[null,null,null,null,0,0]
[null,null,null,null,0,0]
[null,null,null,null,0,0]
[null,null,null,null,0,0]
[null,null,null,null,0,0]
[null,null,null,null,0,0]
[null,null,null,null,0,0]
[null,null,null,null,0,0]
[null,null,null,null,0,0]
[null,null,null,null,0,0]
[null,null,null,null,0,0]
[null,null,null,null,0,0]
[null,null,null,null,0,0]
[null,null,null,null,0,0]
[null,null,null,null,0,0]
[null,null,null,null,0,0]
[null,null,null,null,0,0]
[null,null,null,null,0,0]
[null,null,null,null,0,0]
[null,null,null,null,0,0]
[null,null,null,null,0,0]
[null,null,null,null,0,0]
[null,null,null,null,0,0]
[null,null,null,null,0,0]
[null,null,null,null,0,0]
[null,null,null,null,0,0]
[null,null,null,null,0,0]
[null,null,null,null,0,0]
["Total Minuten",{"$f":"SUM(B4:B34)","v":0},null,null,{"$f":"SUM(E4:E34)","v":0},{"$f":"SUM(F4:F34)","v":0}]

{"sheet":"K22","index":24,"n_rows":35,"n_cols":6,"rows_kept":35,"cut":false,"hidden":false,"merged":[[0,1,0,3]]}
[]
[]
["Datum","Minuten","Gespräche","Spesen","Abrechnung","Spesen"]
[null,null,null,null,{"$f":"B4*186.75/60","v":0},{"$f":"IF(OR(D4=\"s\",D4=\"S\",D4=\"h\",D4=\"H\"),87.1,IF(OR(D4=\"e\",D4=\"E\"),185.05,0))","v":0}]
[null,null,null,null,{"$f":"B5*186.75/60","v":0},{"$f":"IF(OR(D5=\"s\",D5=\"S\",D5=\"h\",D5=\"H\"),87.1,IF(OR(D5=\"e\",D5=\"E\"),185.05,0))","v":0}]
[null,null,null,null,0,0]
[null,null,null,null,0,0]
[null,null,null,null,0,0]
[null,null,null,null,0,0]
[null,null,null,null,0,0]
[null,null,null,null,0,0]
[null,null,null,null,0,0]
[null,null,null,null,0,0]
[null,null,null,null,0,0]
[null,null,null,null,0,0]
[null,null,null,null,0,0]
[null,null,null,null,0,0]
[null,null,null,null,0,0]
[null,null,null,null,0,0]
[null,null,null,null,0,0]
[null,null,null,null,0,0]
[null,null,null,null,0,0]
[null,null,null,null,0,0]
[null,null,null,null,0,0]
[null,null,null,null,0,0]
[null,null,null,null,0,0]
[null,null,null,null,0,0]
[null,null,null,null,0,0]
[null,null,null,null,0,0]
[null,null,null,null,0,0]
[null,null,null,null,0,0]
[null,null,null,null,0,0]
[null,null,null,null,0,0]
[null,null,null,null,0,0]
["Total Minuten",{"$f":"SUM(B4:B34)","v":0},null,null,{"$f":"SUM(E4:E34)","v":0},{"$f":"SUM(F4:F34)","v":0}]

{"sheet":"K23","index":25,"n_rows":35,"n_cols":6,"rows_kept":35,"cut":false,"hidden":false,"merged":[[0,1,0,3]]}
[]
[]
["Datum","Minuten","Gespräche","Spesen","Abrechnung","Spesen"]
[null,null,null,null,{"$f":"B4*186.75/60","v":0},{"$f":"IF(OR(D4=\"s\",D4=\"S\",D4=\"h\",D4=\"H\"),87.1,IF(OR(D4=\"e\",D4=\"E\"),185.05,0))","v":0}]
[null,null,null,null,{"$f":"B5*186.75/60","v":0},{"$f":"IF(OR(D5=\"s\",D5=\"S\",D5=\"h\",D5=\"H\"),87.1,IF(OR(D5=\"e\",D5=\"E\"),185.05,0))","v":0}]
[null,null,null,null,0,0]
[null,null,null,null,0,0]
[null,null,null,null,0,0]
[null,null,null,null,0,0]
[null,null,null,null,0,0]
[null,null,null,null,0,0]
[null,null,null,null,0,0]
[null,null,null,null,0,0]
[null,null,null,null,0,0]
[null,null,null,null,0,0]
[null,null,null,null,0,0]
[null,null,null,null,0,0]
[null,null,null,null,0,0]
[null,null,null,null,0,0]
[null,null,null,null,0,0]
[null,null,null,null,0,0]
[null,null,null,null,0,0]
[null,null,null,null,0,0]
[null,null,null,null,0,0]
[null,null,null,null,0,0]
[null,null,null,null,0,0]
[null,null,null,null,0,0]
[null,null,null,null,0,0]
[null,null,null,null,0,0]
[null,null,null,null,0,0]
[null,null,null,null,0,0]
[null,null,null,null,0,0]
[null,null,null,null,0,0]
[null,null,null,null,0,0]
["Total Minuten",{"$f":"SUM(B4:B34)","v":0},null,null,{"$f":"SUM(E4:E34)","v":0},{"$f":"SUM(F4:F34)","v":0}]

{"sheet":"K24","index":26,"n_rows":35,"n_cols":6,"rows_kept":35,"cut":false,"hidden":false,"merged":[[0,1,0,3]]}
[]
[]
["Datum","Minuten","Gespräche","Spesen","Abrechnung","Spesen"]
[null,null,null,null,{"$f":"B4*186.75/60","v":0},{"$f":"IF(OR(D4=\"s\",D4=\"S\",D4=\"h\",D4=\"H\"),87.1,IF(OR(D4=\"e\",D4=\"E\"),185.05,0))","v":0}]
[null,null,null,null,{"$f":"B5*186.75/60","v":0},{"$f":"IF(OR(D5=\"s\",D5=\"S\",D5=\"h\",D5=\"H\"),87.1,IF(OR(D5=\"e\",D5=\"E\"),185.05,0))","v":0}]
[null,null,null,null,0,0]
[null,null,null,null,0,0]
[null,null,null,null,0,0]
[null,null,null,null,0,0]
[null,null,null,null,0,0]
[null,null,null,null,0,0]
[null,null,null,null,0,0]
[null,null,null,null,0,0]
[null,null,null,null,0,0]
[null,null,null,null,0,0]
[null,null,null,null,0,0]
[null,null,null,null,0,0]
[null,null,null,null,0,0]
[null,null,null,null,0,0]
[null,null,null,null,0,0]
[null,null,null,null,0,0]
[null,null,null,null,0,0]
[null,null,null,null,0,0]
[null,null,null,null,0,0]
[null,null,null,null,0,0]
[null,null,null,null,0,0]
[null,null,null,null,0,0]
[null,null,null,null,0,0]
[null,null,null,null,0,0]
[null,null,null,null,0,0]
[null,null,null,null,0,0]
[null,null,null,null,0,0]
[null,null,null,null,0,0]
[null,null,null,null,0,0]
["Total Minuten",{"$f":"SUM(B4:B34)","v":0},null,null,{"$f":"SUM(E4:E34)","v":0},{"$f":"SUM(F4:F34)","v":0}]

{"sheet":"K25","index":27,"n_rows":35,"n_cols":6,"rows_kept":35,"cut":false,"hidden":false,"merged":[[0,1,0,3]]}
[]
[]
["Datum","Minuten","Gespräche","Spesen","Abrechnung","Spesen"]
[null,null,null,null,{"$f":"B4*186.75/60","v":0},{"$f":"IF(OR(D4=\"s\",D4=\"S\",D4=\"h\",D4=\"H\"),87.1,IF(OR(D4=\"e\",D4=\"E\"),185.05,0))","v":0}]
[null,null,null,null,{"$f":"B5*186.75/60","v":0},{"$f":"IF(OR(D5=\"s\",D5=\"S\",D5=\"h\",D5=\"H\"),87.1,IF(OR(D5=\"e\",D5=\"E\"),185.05,0))","v":0}]
[null,null,null,null,0,0]
[null,null,null,null,0,0]
[null,null,null,null,0,0]
[null,null,null,null,0,0]
[null,null,null,null,0,0]
[null,null,null,null,0,0]
[null,null,null,null,0,0]
[null,null,null,null,0,0]
[null,null,null,null,0,0]
[null,null,null,null,0,0]
[null,null,null,null,0,0]
[null,null,null,null,0,0]
[null,null,null,null,0,0]
[null,null,null,null,0,0]
[null,null,null,null,0,0]
[null,null,null,null,0,0]
[null,null,null,null,0,0]
[null,null,null,null,0,0]
[null,null,null,null,0,0]
[null,null,null,null,0,0]
[null,null,null,null,0,0]
[null,null,null,null,0,0]
[null,null,null,null,0,0]
[null,null,null,null,0,0]
[null,null,null,null,0,0]
[null,null,null,null,0,0]
[null,null,null,null,0,0]
[null,null,null,null,0,0]
[null,null,null,null,0,0]
["Total Minuten",{"$f":"SUM(B4:B34)","v":0},null,null,{"$f":"SUM(E4:E34)","v":0},{"$f":"SUM(F4:F34)","v":0}]

{"sheet":"K26","index":28,"n_rows":35,"n_cols":6,"rows_kept":35,"cut":false,"hidden":false,"merged":[[0,1,0,3]]}
[]
[]
["Datum","Minuten","Gespräche","Spesen","Abrechnung","Spesen"]
[null,null,null,null,{"$f":"B4*186.75/60","v":0},{"$f":"IF(OR(D4=\"s\",D4=\"S\",D4=\"h\",D4=\"H\"),87.1,IF(OR(D4=\"e\",D4=\"E\"),185.05,0))","v":0}]
[null,null,null,null,{"$f":"B5*186.75/60","v":0},{"$f":"IF(OR(D5=\"s\",D5=\"S\",D5=\"h\",D5=\"H\"),87.1,IF(OR(D5=\"e\",D5=\"E\"),185.05,0))","v":0}]
[null,null,null,null,0,0]
[null,null,null,null,0,0]
[null,null,null,null,0,0]
[null,null,null,null,0,0]
[null,null,null,null,0,0]
[null,null,null,null,0,0]
[null,null,null,null,0,0]
[null,null,null,null,0,0]
[null,null,null,null,0,0]
[null,null,null,null,0,0]
[null,null,null,null,0,0]
[null,null,null,null,0,0]
[null,null,null,null,0,0]
[null,null,null,null,0,0]
[null,null,null,null,0,0]
[null,null,null,null,0,0]
[null,null,null,null,0,0]
[null,null,null,null,0,0]
[null,null,null,null,0,0]
[null,null,null,null,0,0]
[null,null,null,null,0,0]
[null,null,null,null,0,0]
[null,null,null,null,0,0]
[null,null,null,null,0,0]
[null,null,null,null,0,0]
[null,null,null,null,0,0]
[null,null,null,null,0,0]
[null,null,null,null,0,0]
[null,null,null,null,0,0]
["Total Minuten",{"$f":"SUM(B4:B34)","v":0},null,null,{"$f":"SUM(E4:E34)","v":0},{"$f":"SUM(F4:F34)","v":0}]

{"sheet":"K27","index":29,"n_rows":35,"n_cols":6,"rows_kept":35,"cut":false,"hidden":false,"merged":[[0,1,0,3]]}
[]
[]
["Datum","Minuten","Gespräche","Spesen","Abrechnung","Spesen"]
[null,null,null,null,{"$f":"B4*186.75/60","v":0},{"$f":"IF(OR(D4=\"s\",D4=\"S\",D4=\"h\",D4=\"H\"),87.1,IF(OR(D4=\"e\",D4=\"E\"),185.05,0))","v":0}]
[null,null,null,null,{"$f":"B5*186.75/60","v":0},{"$f":"IF(OR(D5=\"s\",D5=\"S\",D5=\"h\",D5=\"H\"),87.1,IF(OR(D5=\"e\",D5=\"E\"),185.05,0))","v":0}]
[null,null,null,null,0,0]
[null,null,null,null,0,0]
[null,null,null,null,0,0]
[null,null,null,null,0,0]
[null,null,null,null,0,0]
[null,null,null,null,0,0]
[null,null,null,null,0,0]
[null,null,null,null,0,0]
[null,null,null,null,0,0]
[null,null,null,null,0,0]
[null,null,null,null,0,0]
[null,null,null,null,0,0]
[null,null,null,null,0,0]
[null,null,null,null,0,0]
[null,null,null,null,0,0]
[null,null,null,null,0,0]
[null,null,null,null,0,0]
[null,null,null,null,0,0]
[null,null,null,null,0,0]
[null,null,null,null,0,0]
[null,null,null,null,0,0]
[null,null,null,null,0,0]
[null,null,null,null,0,0]
[null,null,null,null,0,0]
[null,null,null,null,0,0]
[null,null,null,null,0,0]
[null,null,null,null,0,0]
[null,null,null,null,0,0]
[null,null,null,null,0,0]
["Total Minuten",{"$f":"SUM(B4:B34)","v":0},null,null,{"$f":"SUM(E4:E34)","v":0},{"$f":"SUM(F4:F34)","v":0}]

{"sheet":"K28","index":30,"n_rows":35,"n_cols":6,"rows_kept":35,"cut":false,"hidden":false,"merged":[[0,1,0,3]]}
[]
[]
["Datum","Minuten","Gespräche","Spesen","Abrechnung","Spesen"]
[null,null,null,null,{"$f":"B4*186.75/60","v":0},{"$f":"IF(OR(D4=\"s\",D4=\"S\",D4=\"h\",D4=\"H\"),87.1,IF(OR(D4=\"e\",D4=\"E\"),185.05,0))","v":0}]
[null,null,null,null,{"$f":"B5*186.75/60","v":0},{"$f":"IF(OR(D5=\"s\",D5=\"S\",D5=\"h\",D5=\"H\"),87.1,IF(OR(D5=\"e\",D5=\"E\"),185.05,0))","v":0}]
[null,null,null,null,0,0]
[null,null,null,null,0,0]
[null,null,null,null,0,0]
[null,null,null,null,0,0]
[null,null,null,null,0,0]
[null,null,null,null,0,0]
[null,null,null,null,0,0]
[null,null,null,null,0,0]
[null,null,null,null,0,0]
[null,null,null,null,0,0]
[null,null,null,null,0,0]
[null,null,null,null,0,0]
[null,null,null,null,0,0]
[null,null,null,null,0,0]
[null,null,null,null,0,0]
[null,null,null,null,0,0]
[null,null,null,null,0,0]
[null,null,null,null,0,0]
[null,null,null,null,0,0]
[null,null,null,null,0,0]
[null,null,null,null,0,0]
[null,null,null,null,0,0]
[null,null,null,null,0,0]
[null,null,null,null,0,0]
[null,null,null,null,0,0]
[null,null,null,null,0,0]
[null,null,null,null,0,0]
[null,null,null,null,0,0]
[null,null,null,null,0,0]
["Total Minuten",{"$f":"SUM(B4:B34)","v":0},null,null,{"$f":"SUM(E4:E34)","v":0},{"$f":"SUM(F4:F34)","v":0}]

{"sheet":"K29","index":31,"n_rows":35,"n_cols":6,"rows_kept":35,"cut":false,"hidden":false,"merged":[[0,1,0,3]]}
[]
[]
["Datum","Minuten","Gespräche","Spesen","Abrechnung","Spesen"]
[null,null,null,null,{"$f":"B4*186.75/60","v":0},{"$f":"IF(OR(D4=\"s\",D4=\"S\",D4=\"h\",D4=\"H\"),87.1,IF(OR(D4=\"e\",D4=\"E\"),185.05,0))","v":0}]
[null,null,null,null,{"$f":"B5*186.75/60","v":0},{"$f":"IF(OR(D5=\"s\",D5=\"S\",D5=\"h\",D5=\"H\"),87.1,IF(OR(D5=\"e\",D5=\"E\"),185.05,0))","v":0}]
[null,null,null,null,0,0]
[null,null,null,null,0,0]
[null,null,null,null,0,0]
[null,null,null,null,0,0]
[null,null,null,null,0,0]
[null,null,null,null,0,0]
[null,null,null,null,0,0]
[null,null,null,null,0,0]
[null,null,null,null,0,0]
[null,null,null,null,0,0]
[null,null,null,null,0,0]
[null,null,null,null,0,0]
[null,null,null,null,0,0]
[null,null,null,null,0,0]
[null,null,null,null,0,0]
[null,null,null,null,0,0]
[null,null,null,null,0,0]
[null,null,null,null,0,0]
[null,null,null,null,0,0]
[null,null,null,null,0,0]
[null,null,null,null,0,0]
[null,null,null,null,0,0]
[null,null,null,null,0,0]
[null,null,null,null,0,0]
[null,null,null,null,0,0]
[null,null,null,null,0,0]
[null,null,null,null,0,0]
[null,null,null,null,0,0]
[null,null,null,null,0,0]
["Total Minuten",{"$f":"SUM(B4:B34)","v":0},null,null,{"$f":"SUM(E4:E34)","v":0},{"$f":"SUM(F4:F34)","v":0}]

{"sheet":"K30","index":32,"n_rows":35,"n_cols":6,"rows_kept":35,"cut":false,"hidden":false,"merged":[[0,1,0,3]]}
[]
[]
["Datum","Minuten","Gespräche","Spesen","Abrechnung","Spesen"]
[null,null,null,null,{"$f":"B4*186.75/60","v":0},{"$f":"IF(OR(D4=\"s\",D4=\"S\",D4=\"h\",D4=\"H\"),87.1,IF(OR(D4=\"e\",D4=\"E\"),185.05,0))","v":0}]
[null,null,null,null,0,0]
[null,null,null,null,0,0]
[null,null,null,null,0,0]
[null,null,null,null,0,0]
[null,null,null,null,0,0]
[null,null,null,null,0,0]
[null,null,null,null,0,0]
[null,null,null,null,0,0]
[null,null,null,null,0,0]
[null,null,null,null,0,0]
[null,null,null,null,0,0]
[null,null,null,null,0,0]
[null,null,null,null,0,0]
[null,null,null,null,0,0]
[null,null,null,null,0,0]
[null,null,null,null,0,0]
[null,null,null,null,0,0]
[null,null,null,null,0,0]
[null,null,null,null,0,0]
[null,null,null,null,0,0]
[null,null,null,null,0,0]
[null,null,null,null,0,0]
[null,null,null,null,0,0]
[null,null,null,null,0,0]
[null,null,null,null,0,0]
[null,null,null,null,0,0]
[null,null,null,null,0,0]
[null,null,null,null,0,0]
[null,null,null,null,0,0]
[null,null,null,null,0,0]
["Total Minuten",{"$f":"SUM(B4:B34)","v":0},null,null,{"$f":"SUM(E4:E34)","v":0},{"$f":"SUM(F4:F34)","v":0}]

{"sheet":"Dolmetscher","index":33,"n_rows":1,"n_cols":5,"rows_kept":1,"cut":false,"hidden":false,"merged":[]}
["Kind","ID","Datum","Minuten","Dolmetscherrechnung in Fr."]

{"sheet":"Tarife","index":34,"n_rows":7,"n_cols":2,"rows_kept":7,"cut":false,"hidden":false,"merged":[]}
["Therapie",186.75]
["Gespräche",186.75]
["Gespräche nach KIGA Eintritt",186.75]
["Wegpauschale standard",87.1]
["Wegpauschale erhöht",185.05]
["Wegpauschale Helfendenkonferenz",87.1]
["Dolmetscherleistungen"]